Workbook

Sheet 연차
A1: 연 차 관 리 대 장
A3: * 근로자명을 자유롭게 입력해주세요. * 구분에 연차 구분을 입력해주세요. - 연차 : 1일 사용 - 반차 : 0.5일(4시간) 사용 - 소멸 : 연차사용 촉진을 통해 소멸된 연차 * 사용일 : 연차를 사용한 날짜를 입력해주세요. - 소멸의 경우 소멸된 개수를 적어주세요.
A5: 근로자명 | B5: EX) 강길동(670424)
A6: 입사일 | B6: 45383 | C6: 44691
A7: 근속개월 | B7: =DATEDIF(B6,TODAY(),"m") -> 26 | C7: =DATEDIF(C6,TODAY()+1,"ym") -> 1 | D7: =DATEDIF(D6,TODAY(),"m") -> 1517 | E7: =DATEDIF(E6,TODAY()+1,"ym") -> 5 | F7: =DATEDIF(F6,TODAY(),"m") -> 1517 | G7: =DATEDIF(G6,TODAY()+1,"ym") -> 5 | H7: =DATEDIF(H6,TODAY(),"m") -> 1517 | I7: =DATEDIF(I6,TODAY()+1,"ym") -> 5 | J7: =DATEDIF(J6,TODAY(),"m") -> 1517 | K7: =DATEDIF(K6,TODAY()+1,"ym") -> 5 | L7: =DATEDIF(L6,TODAY(),"m") -> 1517 | M7: =DATEDIF(M6,TODAY()+1,"ym") -> 5 | N7: =DATEDIF(N6,TODAY(),"m") -> 1517 | O7: =DATEDIF(O6,TODAY()+1,"ym") -> 5 | P7: =DATEDIF(P6,TODAY(),"m") -> 1517 | Q7: =DATEDIF(Q6,TODAY()+1,"ym") -> 5
A8: 발생 | B8: =_xlfn.XLOOKUP(B7,Sheet1!$B$3:$B$500,Sheet1!$C$3:$C$500) -> 41 | C8: =MIN(25,IF(#REF!>0,15+INT((#REF!-1)/2),C7)) -> #REF! | D8: =_xlfn.XLOOKUP(D7,Sheet1!$B$3:$B$500,Sheet1!$C$3:$C$500) -> #N/A | E8: =MIN(25,IF(#REF!>0,15+INT((#REF!-1)/2),E7)) -> #REF! | F8: =_xlfn.XLOOKUP(F7,Sheet1!$B$3:$B$500,Sheet1!$C$3:$C$500) -> #N/A | G8: =MIN(25,IF(#REF!>0,15+INT((#REF!-1)/2),G7)) -> #REF! | H8: =_xlfn.XLOOKUP(H7,Sheet1!$B$3:$B$500,Sheet1!$C$3:$C$500) -> #N/A | I8: =MIN(25,IF(#REF!>0,15+INT((#REF!-1)/2),I7)) -> #REF! | J8: =_xlfn.XLOOKUP(J7,Sheet1!$B$3:$B$500,Sheet1!$C$3:$C$500) -> #N/A | K8: =MIN(25,IF(#REF!>0,15+INT((#REF!-1)/2),K7)) -> #REF! | L8: =_xlfn.XLOOKUP(L7,Sheet1!$B$3:$B$500,Sheet1!$C$3:$C$500) -> #N/A | M8: =MIN(25,IF(#REF!>0,15+INT((#REF!-1)/2),M7)) -> #REF! | N8: =_xlfn.XLOOKUP(N7,Sheet1!$B$3:$B$500,Sheet1!$C$3:$C$500) -> #N/A | O8: =MIN(25,IF(#REF!>0,15+INT((#REF!-1)/2),O7)) -> #REF! | P8: =_xlfn.XLOOKUP(P7,Sheet1!$B$3:$B$500,Sheet1!$C$3:$C$500) -> #N/A | Q8: =MIN(25,IF(#REF!>0,15+INT((#REF!-1)/2),Q7)) -> #REF!
A9: (-)사용 | B9: =COUNTIFS(B$13:B$504,"연차")+(COUNTIFS(B$13:B$504,"반차")/2) -> 1.5 | D9: =COUNTIFS(D$13:D$504,"연차")+(COUNTIFS(D$13:D$504,"반차")/2) -> 0 | F9: =COUNTIFS(F$13:F$504,"연차")+(COUNTIFS(F$13:F$504,"반차")/2) -> 0 | H9: =COUNTIFS(H$13:H$504,"연차")+(COUNTIFS(H$13:H$504,"반차")/2) -> 0 | J9: =COUNTIFS(J$13:J$504,"연차")+(COUNTIFS(J$13:J$504,"반차")/2) -> 0 | L9: =COUNTIFS(L$13:L$504,"연차")+(COUNTIFS(L$13:L$504,"반차")/2) -> 0 | N9: =COUNTIFS(N$13:N$504,"연차")+(COUNTIFS(N$13:N$504,"반차")/2) -> 0 | P9: =COUNTIFS(P$13:P$504,"연차")+(COUNTIFS(P$13:P$504,"반차")/2) -> 0
A10: (-)소멸 | B10: =SUMIF(B13:B503,"소멸",C13:C503) -> 15 | D10: =SUMIF(D13:D503,"소멸",E13:E503) -> 0 | F10: =SUMIF(F13:F503,"소멸",G13:G503) -> 0 | H10: =SUMIF(H13:H503,"소멸",I13:I503) -> 0 | J10: =SUMIF(J13:J503,"소멸",K13:K503) -> 0 | L10: =SUMIF(L13:L503,"소멸",M13:M503) -> 0 | N10: =SUMIF(N13:N503,"소멸",O13:O503) -> 0 | P10: =SUMIF(P13:P503,"소멸",Q13:Q503) -> 0
A11: 잔여 | B11: =B8-B9-B10 -> 24.5 | D11: =D8-D9-D10 -> #N/A | F11: =F8-F9-F10 -> #N/A | H11: =H8-H9-H10 -> #N/A | J11: =J8-J9-J10 -> #N/A | L11: =L8-L9-L10 -> #N/A | N11: =N8-N9-N10 -> #N/A | P11: =P8-P9-P10 -> #N/A
A12: 연차상세 | B12: 구분 | C12: 사용일 | D12: 구분 | E12: 사용일 | F12: 구분 | G12: 사용일 | H12: 구분 | I12: 사용일 | J12: 구분 | K12: 사용일 | L12: 구분 | M12: 사용일 | N12: 구분 | O12: 사용일 | P12: 구분 | Q12: 사용일
B13: 연차 | C13: 45597
B14: 소멸 | C14: 10
B15: 반차 | C15: 45661
B16: 소멸 | C16: 5

Sheet Sheet1
A1: 근속년수
A2: 년 | B2: 개월 | C2: 발생연차
A3: 0 | B3: 1 | C3: 0
B4: 2 | C4: 1
B5: 3 | C5: 2
B6: 4 | C6: 3
B7: 5 | C7: 4
B8: 6 | C8: 5
B9: 7 | C9: 6
B10: 8 | C10: 7
B11: 9 | C11: 8
B12: 10 | C12: 9
B13: 11 | C13: 10
B14: 12 | C14: 11
A15: 1 | B15: 13 | C15: =$C$14+15 -> 26 | D15: 15
B16: 14 | C16: =$C$14+15 -> 26
B17: 15 | C17: =$C$14+15 -> 26
B18: 16 | C18: =$C$14+15 -> 26
B19: 17 | C19: =$C$14+15 -> 26
B20: 18 | C20: =$C$14+15 -> 26
B21: 19 | C21: =$C$14+15 -> 26
B22: 20 | C22: =$C$14+15 -> 26
B23: 21 | C23: =$C$14+15 -> 26
B24: 22 | C24: =$C$14+15 -> 26
B25: 23 | C25: =$C$14+15 -> 26
B26: 24 | C26: =$C$14+15 -> 26
A27: 2 | B27: 25 | C27: =$C$26+15 -> 41 | D27: 15
B28: 26 | C28: =$C$26+15 -> 41
B29: 27 | C29: =$C$26+15 -> 41
B30: 28 | C30: =$C$26+15 -> 41
B31: 29 | C31: =$C$26+15 -> 41
B32: 30 | C32: =$C$26+15 -> 41
B33: 31 | C33: =$C$26+15 -> 41
B34: 32 | C34: =$C$26+15 -> 41
B35: 33 | C35: =$C$26+15 -> 41
B36: 34 | C36: =$C$26+15 -> 41
B37: 35 | C37: =$C$26+15 -> 41
B38: 36 | C38: =$C$26+15 -> 41
A39: 3 | B39: 37 | C39: =$C$38+16 -> 57 | D39: 16
B40: 38 | C40: =$C$38+16 -> 57
...
